BEGIN:VCALENDAR
VERSION:2.0
PRODID:-//Drupal//DD Create//EN
METHOD:PUBLISH
BEGIN:VEVENT
UID:dd_create.4447.0
DTSTAMP:20260423T213716Z
DTSTART:20220927T010000Z
DTEND:20220927T030000Z
SUMMARY:Sac High Girls Volleyball vs. Rio Americano HS
URL;VALUE=URI:https://www.sthope.org/event/sac-high-girls-volleyball-vs-rio-americano-hs
END:VEVENT
END:VCALENDAR
