BEGIN:VCALENDAR
VERSION:2.0
PRODID:-//Drupal//DD Create//EN
METHOD:PUBLISH
BEGIN:VEVENT
UID:dd_create.4443.0
DTSTAMP:20260423T182758Z
DTSTART:20220916T010000Z
DTEND:20220916T030000Z
SUMMARY:Sac High Girls Volleyball vs. Natomas HS
URL;VALUE=URI:https://www.sthope.org/event/sac-high-girls-volleyball-vs-natomas-hs
END:VEVENT
END:VCALENDAR
