BEGIN:VCALENDAR
VERSION:2.0
PRODID:-//Drupal//DD Create//EN
METHOD:PUBLISH
BEGIN:VEVENT
UID:dd_create.4397.0
DTSTAMP:20260421T203852Z
DTSTART:20220916T070000Z
DTEND:20220916T070000Z
SUMMARY:Minimum Release Day
URL;VALUE=URI:https://www.sthope.org/event/minimum-release-day-3
END:VEVENT
END:VCALENDAR
