BEGIN:VCALENDAR
VERSION:2.0
PRODID:-//Drupal//DD Create//EN
METHOD:PUBLISH
BEGIN:VEVENT
UID:dd_create.4389.0
DTSTAMP:20260422T032433Z
DTSTART:20220917T070000Z
DTEND:20220917T070000Z
SUMMARY:Sac High Homecoming Football Game vs CKM
URL;VALUE=URI:https://www.sthope.org/event/sac-high-homecoming-football-game-vs-ckm-0
END:VEVENT
END:VCALENDAR
