BEGIN:VCALENDAR
VERSION:2.0
PRODID:-//Drupal//DD Create//EN
METHOD:PUBLISH
BEGIN:VEVENT
UID:dd_create.4385.0
DTSTAMP:20260423T181810Z
DTSTART:20220812T070000Z
DTEND:20220812T070000Z
SUMMARY:School Picture Day
URL;VALUE=URI:https://www.sthope.org/event/school-picture-day-5
END:VEVENT
END:VCALENDAR
