BEGIN:VCALENDAR
VERSION:2.0
PRODID:-//Drupal//DD Create//EN
METHOD:PUBLISH
BEGIN:VEVENT
UID:dd_create.4365.0
DTSTAMP:20260425T225110Z
DTSTART:20220723T030000Z
DTEND:20220723T050000Z
SUMMARY:Comedy Night Featuring Scruncho
URL;VALUE=URI:https://www.sthope.org/event/comedy-night-featuring-scruncho
END:VEVENT
END:VCALENDAR
