BEGIN:VCALENDAR
VERSION:2.0
PRODID:-//Drupal//DD Create//EN
METHOD:PUBLISH
BEGIN:VEVENT
UID:dd_create.4356.0
DTSTAMP:20260425T154351Z
DTSTART:20220604T070000Z
DTEND:20220604T070000Z
SUMMARY:Class of 2022 Graduation 
URL;VALUE=URI:https://www.sthope.org/event/class-2022-graduation
END:VEVENT
END:VCALENDAR
