BEGIN:VCALENDAR
VERSION:2.0
PRODID:-//Drupal//DD Create//EN
METHOD:PUBLISH
BEGIN:VEVENT
UID:dd_create.4330.0
DTSTAMP:20260423T151313Z
DTSTART:20220605T030000Z
DTEND:20220605T050000Z
SUMMARY:Comedy Night at the Guild with Headliner Dru Burks
URL;VALUE=URI:https://www.sthope.org/event/comedy-night-guild-headliner-dru-burks
END:VEVENT
END:VCALENDAR
