BEGIN:VCALENDAR
VERSION:2.0
PRODID:-//Drupal//DD Create//EN
METHOD:PUBLISH
BEGIN:VEVENT
UID:dd_create.4316.0
DTSTAMP:20260424T020630Z
DTSTART:20220611T170000Z
DTEND:20220611T180000Z
SUMMARY:Let's Read Oak Park
URL;VALUE=URI:https://www.sthope.org/event/lets-read-oak-park-4
END:VEVENT
END:VCALENDAR
