BEGIN:VCALENDAR
VERSION:2.0
PRODID:-//Drupal//DD Create//EN
METHOD:PUBLISH
BEGIN:VEVENT
UID:dd_create.4293.0
DTSTAMP:20260426T011826Z
DTSTART:20220417T180000Z
DTEND:20220417T200000Z
SUMMARY:Easter Jazz Brunch
URL;VALUE=URI:https://www.sthope.org/event/easter-jazz-brunch
END:VEVENT
END:VCALENDAR
