BEGIN:VCALENDAR
VERSION:2.0
PRODID:-//Drupal//DD Create//EN
METHOD:PUBLISH
BEGIN:VEVENT
UID:dd_create.4289.0
DTSTAMP:20260423T211920Z
DTSTART:20220305T020000Z
DTEND:20220305T030000Z
SUMMARY:Book Discussion: Candacy Taylor's "Overground Railroad: The Green Book and the Roots of Black Travel in America"
URL;VALUE=URI:https://www.sthope.org/event/book-discussion-candacy-taylors-overground-railroad-green-book-and-roots-black-travel-america
END:VEVENT
END:VCALENDAR
