BEGIN:VCALENDAR
VERSION:2.0
PRODID:-//Drupal//DD Create//EN
METHOD:PUBLISH
BEGIN:VEVENT
UID:dd_create.4288.0
DTSTAMP:20260422T192036Z
DTSTART:20220304T080000Z
DTEND:20220304T080000Z
SUMMARY:Half Day
URL;VALUE=URI:https://www.sthope.org/event/half-day-9
END:VEVENT
END:VCALENDAR
