BEGIN:VCALENDAR
VERSION:2.0
PRODID:-//Drupal//DD Create//EN
METHOD:PUBLISH
BEGIN:VEVENT
UID:dd_create.4261.0
DTSTAMP:20260423T213837Z
DTSTART:20220219T223000Z
DTEND:20220220T003000Z
SUMMARY:Pop-Up Vendor: Melanin Unwind
URL;VALUE=URI:https://www.sthope.org/event/pop-vendor-melanin-unwind
END:VEVENT
END:VCALENDAR
