BEGIN:VCALENDAR
VERSION:2.0
PRODID:-//Drupal//DD Create//EN
METHOD:PUBLISH
BEGIN:VEVENT
UID:dd_create.4259.0
DTSTAMP:20260425T203852Z
DTSTART:20220211T080000Z
DTEND:20220211T080000Z
SUMMARY:Super Bowl Dress Up Days
URL;VALUE=URI:https://www.sthope.org/event/super-bowl-dress-days-0
END:VEVENT
END:VCALENDAR
