BEGIN:VCALENDAR
VERSION:2.0
PRODID:-//Drupal//DD Create//EN
METHOD:PUBLISH
BEGIN:VEVENT
UID:dd_create.4188.0
DTSTAMP:20260423T082447Z
DTSTART:20211218T210000Z
DTEND:20211218T230000Z
SUMMARY:Way Love Essentials Pop-Up
URL;VALUE=URI:https://www.sthope.org/event/way-love-essentials-pop-2
END:VEVENT
END:VCALENDAR
