BEGIN:VCALENDAR
VERSION:2.0
PRODID:-//Drupal//DD Create//EN
METHOD:PUBLISH
BEGIN:VEVENT
UID:dd_create.4178.0
DTSTAMP:20260425T234230Z
DTSTART:20220211T080000Z
DTEND:20220211T080000Z
SUMMARY:Sac High Girls Basketball Home vs. Del Campo
URL;VALUE=URI:https://www.sthope.org/event/sac-high-girls-basketball-home-vs-del-campo
END:VEVENT
END:VCALENDAR
