BEGIN:VCALENDAR
VERSION:2.0
PRODID:-//Drupal//DD Create//EN
METHOD:PUBLISH
BEGIN:VEVENT
UID:dd_create.4174.0
DTSTAMP:20260423T195821Z
DTSTART:20220128T080000Z
DTEND:20220128T080000Z
SUMMARY:Sac High Girls Basketball Away at Rio Americano
URL;VALUE=URI:https://www.sthope.org/event/sac-high-girls-basketball-away-rio-americano
END:VEVENT
END:VCALENDAR
