BEGIN:VCALENDAR
VERSION:2.0
PRODID:-//Drupal//DD Create//EN
METHOD:PUBLISH
BEGIN:VEVENT
UID:dd_create.4168.0
DTSTAMP:20260425T235229Z
DTSTART:20220110T080000Z
DTEND:20220110T080000Z
SUMMARY:Sac High Girls Basketball Home vs. Rio Americano
URL;VALUE=URI:https://www.sthope.org/event/sac-high-girls-basketball-home-vs-rio-americano
END:VEVENT
END:VCALENDAR
