BEGIN:VCALENDAR
VERSION:2.0
PRODID:-//Drupal//DD Create//EN
METHOD:PUBLISH
BEGIN:VEVENT
UID:dd_create.4164.0
DTSTAMP:20260423T201631Z
DTSTART:20211228T080000Z
DTEND:20211230T080000Z
SUMMARY:Sac High Girls Basketball Away at West Coast Jamboree
URL;VALUE=URI:https://www.sthope.org/event/sac-high-girls-basketball-away-west-coast-jamboree
END:VEVENT
END:VCALENDAR
