BEGIN:VCALENDAR
VERSION:2.0
PRODID:-//Drupal//DD Create//EN
METHOD:PUBLISH
BEGIN:VEVENT
UID:dd_create.4163.0
DTSTAMP:20260423T201518Z
DTSTART:20211216T080000Z
DTEND:20211218T080000Z
SUMMARY:Sac High Girls Basketball Away at Monterey Trail Tourney
URL;VALUE=URI:https://www.sthope.org/event/sac-high-girls-basketball-away-monterey-trail-tourney
END:VEVENT
END:VCALENDAR
