BEGIN:VCALENDAR
VERSION:2.0
PRODID:-//Drupal//DD Create//EN
METHOD:PUBLISH
BEGIN:VEVENT
UID:dd_create.4149.0
DTSTAMP:20260423T043018Z
DTSTART:20220128T080000Z
DTEND:20220128T080000Z
SUMMARY:Boys Basketball Home vs Rio Americano
URL;VALUE=URI:https://www.sthope.org/event/boys-basketball-home-vs-rio-americano
END:VEVENT
END:VCALENDAR
