BEGIN:VCALENDAR
VERSION:2.0
PRODID:-//Drupal//DD Create//EN
METHOD:PUBLISH
BEGIN:VEVENT
UID:dd_create.4140.0
DTSTAMP:20260426T025744Z
DTSTART:20211113T030000Z
DTEND:20211113T060000Z
SUMMARY:High School Football Playoffs
URL;VALUE=URI:https://www.sthope.org/event/high-school-football-playoffs-0
END:VEVENT
END:VCALENDAR
