BEGIN:VCALENDAR
VERSION:2.0
PRODID:-//Drupal//DD Create//EN
METHOD:PUBLISH
BEGIN:VEVENT
UID:dd_create.4124.0
DTSTAMP:20260420T185806Z
DTSTART:20211127T233000Z
DTEND:20211128T013000Z
SUMMARY:Pop-Up Event: Holmes Apple Sauce
URL;VALUE=URI:https://www.sthope.org/event/pop-event-holmes-apple-sauce
END:VEVENT
END:VCALENDAR
