BEGIN:VCALENDAR
VERSION:2.0
PRODID:-//Drupal//DD Create//EN
METHOD:PUBLISH
BEGIN:VEVENT
UID:dd_create.4109.0
DTSTAMP:20260423T082439Z
DTSTART:20211115T080000Z
DTEND:20211119T080000Z
SUMMARY:Scholastic Book Fair
URL;VALUE=URI:https://www.sthope.org/event/scholastic-book-fair-0
END:VEVENT
END:VCALENDAR
