BEGIN:VCALENDAR
VERSION:2.0
PRODID:-//Drupal//DD Create//EN
METHOD:PUBLISH
BEGIN:VEVENT
UID:dd_create.4089.0
DTSTAMP:20260420T010811Z
DTSTART:20220117T080000Z
DTEND:20220117T080000Z
SUMMARY:Martin Luther King Jr Day
URL;VALUE=URI:https://www.sthope.org/event/martin-luther-king-jr-day-2
END:VEVENT
END:VCALENDAR
