BEGIN:VCALENDAR
VERSION:2.0
PRODID:-//Drupal//DD Create//EN
METHOD:PUBLISH
BEGIN:VEVENT
UID:dd_create.4079.0
DTSTAMP:20260426T043200Z
DTSTART:20210917T070000Z
DTEND:20210917T070000Z
SUMMARY:Half Day
URL;VALUE=URI:https://www.sthope.org/event/half-day-4
END:VEVENT
END:VCALENDAR
