BEGIN:VCALENDAR
VERSION:2.0
PRODID:-//Drupal//DD Create//EN
METHOD:PUBLISH
BEGIN:VEVENT
UID:dd_create.4073.0
DTSTAMP:20260421T092345Z
DTSTART:20210916T163000Z
DTEND:20210916T183000Z
SUMMARY:HBCU College Fair
URL;VALUE=URI:https://www.sthope.org/event/hbcu-college-fair
END:VEVENT
END:VCALENDAR
