BEGIN:VCALENDAR
VERSION:2.0
PRODID:-//Drupal//DD Create//EN
METHOD:PUBLISH
BEGIN:VEVENT
UID:dd_create.4011.0
DTSTAMP:20260423T214109Z
DTSTART:20210728T010000Z
DTEND:20210728T014500Z
SUMMARY:ACR Live Cycling Class "Tuesdays"
URL;VALUE=URI:https://www.sthope.org/event/acr-live-cycling-class-tuesdays-4
END:VEVENT
END:VCALENDAR
