BEGIN:VCALENDAR
VERSION:2.0
PRODID:-//Drupal//DD Create//EN
METHOD:PUBLISH
BEGIN:VEVENT
UID:dd_create.3961.0
DTSTAMP:20260423T231824Z
DTSTART:20210612T010000Z
DTEND:20210612T020000Z
SUMMARY:Wake: The Hidden History of Women-Led Slave Revolts
URL;VALUE=URI:https://www.sthope.org/event/wake-hidden-history-women-led-slave-revolts
END:VEVENT
END:VCALENDAR
