BEGIN:VCALENDAR
VERSION:2.0
PRODID:-//Drupal//DD Create//EN
METHOD:PUBLISH
BEGIN:VEVENT
UID:dd_create.3959.0
DTSTAMP:20260425T203138Z
DTSTART:20210606T170000Z
DTEND:20210606T190000Z
SUMMARY:Self Care Sundays
URL;VALUE=URI:https://www.sthope.org/event/self-care-sundays-2
END:VEVENT
END:VCALENDAR
