BEGIN:VCALENDAR
VERSION:2.0
PRODID:-//Drupal//DD Create//EN
METHOD:PUBLISH
BEGIN:VEVENT
UID:dd_create.3956.0
DTSTAMP:20260424T130656Z
DTSTART:20210603T173000Z
DTEND:20210603T183000Z
SUMMARY:Color Run & Drive Through Promotion Ceremony
URL;VALUE=URI:https://www.sthope.org/event/color-run-drive-through-promotion-ceremony
END:VEVENT
END:VCALENDAR
