BEGIN:VCALENDAR
VERSION:2.0
PRODID:-//Drupal//DD Create//EN
METHOD:PUBLISH
BEGIN:VEVENT
UID:dd_create.3953.0
DTSTAMP:20260423T230901Z
DTSTART:20210602T163000Z
DTEND:20210602T173000Z
SUMMARY:5th Grade Promotion Ceremony 
URL;VALUE=URI:https://www.sthope.org/event/5th-grade-promotion-ceremony-0
END:VEVENT
END:VCALENDAR
