BEGIN:VCALENDAR
VERSION:2.0
PRODID:-//Drupal//DD Create//EN
METHOD:PUBLISH
BEGIN:VEVENT
UID:dd_create.3947.0
DTSTAMP:20260423T201245Z
DTSTART:20210603T070000Z
DTEND:20210603T070000Z
SUMMARY:Sac High Girl's Volleyball vs. Capital Christian
URL;VALUE=URI:https://www.sthope.org/event/sac-high-girls-volleyball-vs-capital-christian-0
END:VEVENT
END:VCALENDAR
