BEGIN:VCALENDAR
VERSION:2.0
PRODID:-//Drupal//DD Create//EN
METHOD:PUBLISH
BEGIN:VEVENT
UID:dd_create.3934.0
DTSTAMP:20260424T055658Z
DTSTART:20210619T170000Z
DTEND:20210620T000000Z
SUMMARY:Juneteenth Block Party
URL;VALUE=URI:https://www.sthope.org/event/juneteenth-block-party
END:VEVENT
END:VCALENDAR
