BEGIN:VCALENDAR
VERSION:2.0
PRODID:-//Drupal//DD Create//EN
METHOD:PUBLISH
BEGIN:VEVENT
UID:dd_create.3933.0
DTSTAMP:20260424T130631Z
DTSTART:20210506T190000Z
DTEND:20210506T200000Z
SUMMARY:Virtual Book Discussion with Dan Morain author of Kamala's Way
URL;VALUE=URI:https://www.sthope.org/event/virtual-book-discussion-dan-morain-author-kamalas-way
END:VEVENT
END:VCALENDAR
