BEGIN:VCALENDAR
VERSION:2.0
PRODID:-//Drupal//DD Create//EN
METHOD:PUBLISH
BEGIN:VEVENT
UID:dd_create.3931.0
DTSTAMP:20260423T234531Z
DTSTART:20210509T020000Z
DTEND:20210509T050000Z
SUMMARY:Comedy Night at Esther's Park
URL;VALUE=URI:https://www.sthope.org/event/comedy-night-esthers-park
END:VEVENT
END:VCALENDAR
