BEGIN:VCALENDAR
VERSION:2.0
PRODID:-//Drupal//DD Create//EN
METHOD:PUBLISH
BEGIN:VEVENT
UID:dd_create.3912.0
DTSTAMP:20260423T201444Z
DTSTART:20210401T190000Z
DTEND:20210401T200000Z
SUMMARY:Bold and Gritty Coffee Virtual Pop-Up
URL;VALUE=URI:https://www.sthope.org/event/bold-and-gritty-coffee-virtual-pop
END:VEVENT
END:VCALENDAR
