BEGIN:VCALENDAR
VERSION:2.0
PRODID:-//Drupal//DD Create//EN
METHOD:PUBLISH
BEGIN:VEVENT
UID:dd_create.3890.0
DTSTAMP:20260423T180716Z
DTSTART:20210312T010000Z
DTEND:20210312T013000Z
SUMMARY:TK & Kinder Virtual Info Night
URL;VALUE=URI:https://www.sthope.org/event/tk-kinder-virtual-info-night
END:VEVENT
END:VCALENDAR
