BEGIN:VCALENDAR
VERSION:2.0
PRODID:-//Drupal//DD Create//EN
METHOD:PUBLISH
BEGIN:VEVENT
UID:dd_create.3877.0
DTSTAMP:20260423T201547Z
DTSTART:20210127T200000Z
DTEND:20210127T210000Z
SUMMARY:Three Mothers Virtual Book Discussion with Authors Anna Malaika Tubbs and Julie Lythcott-Haims
URL;VALUE=URI:https://www.sthope.org/event/three-mothers-virtual-book-discussion-authors-anna-malaika-tubbs-and-julie-lythcott-haims
END:VEVENT
END:VCALENDAR
