BEGIN:VCALENDAR
VERSION:2.0
PRODID:-//Drupal//DD Create//EN
METHOD:PUBLISH
BEGIN:VEVENT
UID:dd_create.3863.0
DTSTAMP:20260425T234326Z
DTSTART:20201205T180000Z
DTEND:20201205T220000Z
SUMMARY:Oak Park Free Flu Vaccine Event
URL;VALUE=URI:https://www.sthope.org/event/oak-park-free-flu-vaccine-event
END:VEVENT
END:VCALENDAR
