BEGIN:VCALENDAR
VERSION:2.0
PRODID:-//Drupal//DD Create//EN
METHOD:PUBLISH
BEGIN:VEVENT
UID:dd_create.3825.0
DTSTAMP:20260423T114917Z
DTSTART:20201023T210000Z
DTEND:20201023T220000Z
SUMMARY:Margaret Kimberley Virtual Book Discussion: "Prejudential: Black America and the Presidents"
URL;VALUE=URI:https://www.sthope.org/event/margaret-kimberley-virtual-book-discussion-prejudential-black-america-and-presidents
END:VEVENT
END:VCALENDAR
