BEGIN:VCALENDAR
VERSION:2.0
PRODID:-//Drupal//DD Create//EN
METHOD:PUBLISH
BEGIN:VEVENT
UID:dd_create.3824.0
DTSTAMP:20260425T171112Z
DTSTART:20201023T210000Z
DTEND:20201023T220000Z
SUMMARY:Margaret Kimberley's "Prejudential: Black America and the Presidents"
URL;VALUE=URI:https://www.sthope.org/event/margaret-kimberleys-prejudential-black-america-and-presidents
END:VEVENT
END:VCALENDAR
