BEGIN:VCALENDAR
VERSION:2.0
PRODID:-//Drupal//DD Create//EN
METHOD:PUBLISH
BEGIN:VEVENT
UID:dd_create.3763.0
DTSTAMP:20260425T234021Z
DTSTART:20200826T233000Z
DTEND:20200827T013000Z
SUMMARY:Sac High Virtual Back to School Night
URL;VALUE=URI:https://www.sthope.org/event/sac-high-virtual-back-school-night
END:VEVENT
END:VCALENDAR
