BEGIN:VCALENDAR
VERSION:2.0
PRODID:-//Drupal//DD Create//EN
METHOD:PUBLISH
BEGIN:VEVENT
UID:dd_create.3619.0
DTSTAMP:20260425T220018Z
DTSTART:20200314T160000Z
DTEND:20200314T230000Z
SUMMARY:Track and Field Wolf Pack Relays
URL;VALUE=URI:https://www.sthope.org/event/track-and-field-wolf-pack-relays
END:VEVENT
END:VCALENDAR
