BEGIN:VCALENDAR
VERSION:2.0
PRODID:-//Drupal//DD Create//EN
METHOD:PUBLISH
BEGIN:VEVENT
UID:dd_create.3604.0
DTSTAMP:20260423T213846Z
DTSTART:20200331T231500Z
DTEND:20200401T010000Z
SUMMARY:Baseball at El Camino
URL;VALUE=URI:https://www.sthope.org/sac-high-athletic-event/baseball-el-camino
END:VEVENT
END:VCALENDAR
