BEGIN:VCALENDAR
VERSION:2.0
PRODID:-//Drupal//DD Create//EN
METHOD:PUBLISH
BEGIN:VEVENT
UID:dd_create.3600.0
DTSTAMP:20260424T130722Z
DTSTART:20200320T231500Z
DTEND:20200321T010000Z
SUMMARY:Baseball vs. Christian Brothers
URL;VALUE=URI:https://www.sthope.org/sac-high-athletic-event/baseball-vs-christian-brothers-0
END:VEVENT
END:VCALENDAR
