BEGIN:VCALENDAR
VERSION:2.0
PRODID:-//Drupal//DD Create//EN
METHOD:PUBLISH
BEGIN:VEVENT
UID:dd_create.3586.0
DTSTAMP:20260423T095142Z
DTSTART:20200318T231500Z
DTEND:20200319T011500Z
SUMMARY:Softball at Vista Del Lago
URL;VALUE=URI:https://www.sthope.org/sac-high-athletic-event/softball-vista-del-lago
END:VEVENT
END:VCALENDAR
