BEGIN:VCALENDAR
VERSION:2.0
PRODID:-//Drupal//DD Create//EN
METHOD:PUBLISH
BEGIN:VEVENT
UID:dd_create.3553.0
DTSTAMP:20260420T112846Z
DTSTART:20200606T070000Z
DTEND:20200606T070000Z
SUMMARY:Class of 2020 Graduation 
URL;VALUE=URI:https://www.sthope.org/event/class-2020-graduation
END:VEVENT
END:VCALENDAR
