BEGIN:VCALENDAR
VERSION:2.0
PRODID:-//Drupal//DD Create//EN
METHOD:PUBLISH
BEGIN:VEVENT
UID:dd_create.3552.0
DTSTAMP:20260425T170118Z
DTSTART:20200604T070000Z
DTEND:20200604T070000Z
SUMMARY:Senior Sunset
URL;VALUE=URI:https://www.sthope.org/event/senior-sunset
END:VEVENT
END:VCALENDAR
