BEGIN:VCALENDAR
VERSION:2.0
PRODID:-//Drupal//DD Create//EN
METHOD:PUBLISH
BEGIN:VEVENT
UID:dd_create.3544.0
DTSTAMP:20260425T144957Z
DTSTART:20200302T080000Z
DTEND:20200306T080000Z
SUMMARY:Literacy Week
URL;VALUE=URI:https://www.sthope.org/event/literacy-week
END:VEVENT
END:VCALENDAR
